BEGIN:VCALENDAR
VERSION:2.0
PRODID:-//Office for Victims of Crime//NONSGML Event Calendar//EN
BEGIN:VEVENT
UID:3a4888d8-21f8-4c6d-bd61-d75970e3c60a
DTSTART;TZID=UTC:20230913T190000
SEQUENCE:0
TRANSP:OPAQUE
DTEND;TZID=UTC:20230913T200000
LOCATION:https://www.ovc.ojp.gov/events/law-enforcement-based-victim-servic
 es-learning-collaborations-0
SUMMARY:Law Enforcement-Based Victim Services Learning Collaborations
CLASS:PUBLIC
DESCRIPTION:Learn more about this event: https://www.ovc.ojp.gov/events/law
 -enforcement-based-victim-services-learning-collaborations-0
DTSTAMP:20260422T220359Z
END:VEVENT
END:VCALENDAR