BEGIN:VCALENDAR
VERSION:2.0
PRODID:-//Office for Victims of Crime//NONSGML Event Calendar//EN
BEGIN:VEVENT
UID:b58df6d9-ce0f-46a8-a085-2d7b0e97c728
DTSTART;TZID=UTC:20231108T200000
SEQUENCE:0
TRANSP:OPAQUE
DTEND;TZID=UTC:20231108T210000
LOCATION:https://www.ovc.ojp.gov/events/law-enforcement-based-victim-servic
 es-learning-collaborations-2
SUMMARY:Law Enforcement-Based Victim Services Learning Collaborations
CLASS:PUBLIC
DESCRIPTION:Learn more about this event: https://www.ovc.ojp.gov/events/law
 -enforcement-based-victim-services-learning-collaborations-2
DTSTAMP:20260422T220342Z
END:VEVENT
END:VCALENDAR