BEGIN:VCALENDAR
VERSION:2.0
PRODID:-//Office for Victims of Crime//NONSGML Event Calendar//EN
BEGIN:VEVENT
UID:d93a48f3-96fc-41ca-aaf1-59c48bd074d5
DTSTART;TZID=UTC:20240229T200000
SEQUENCE:0
TRANSP:OPAQUE
DTEND;TZID=UTC:20240229T211500
LOCATION:https://www.ovc.ojp.gov/events/identifying-roles-and-responsibilit
 ies-victim-services
SUMMARY:Identifying Roles and Responsibilities of Victim Services
CLASS:PUBLIC
DESCRIPTION:Learn more about this event: https://www.ovc.ojp.gov/events/ide
 ntifying-roles-and-responsibilities-victim-services
DTSTAMP:20260422T220400Z
END:VEVENT
END:VCALENDAR