BEGIN:VCALENDAR
VERSION:2.0
PRODID:-//Office for Victims of Crime//NONSGML Event Calendar//EN
BEGIN:VEVENT
UID:3b8ee469-3e94-421d-a216-9de956ebbaa0
DTSTART;TZID=UTC:20240530T170000
SEQUENCE:0
TRANSP:OPAQUE
DTEND;TZID=UTC:20240530T181500
LOCATION:https://www.ovc.ojp.gov/events/assessing-readiness-incorporating-v
 ictim-services-law-enforcement-agencies
SUMMARY:Assessing Readiness for Incorporating Victim Services into Law Enfo
 rcement Agencies
CLASS:PUBLIC
DESCRIPTION:Learn more about this event: https://www.ovc.ojp.gov/events/ass
 essing-readiness-incorporating-victim-services-law-enforcement-agencies
DTSTAMP:20260422T220356Z
END:VEVENT
END:VCALENDAR