BEGIN:VCALENDAR
VERSION:2.0
PRODID:-//Office for Victims of Crime//NONSGML Event Calendar//EN
BEGIN:VEVENT
UID:5f9bffea-355d-4c2e-aed9-63c515cd2756
DTSTART;TZID=UTC:20240801T170000
SEQUENCE:0
TRANSP:OPAQUE
DTEND;TZID=UTC:20240801T181500
LOCATION:https://www.ovc.ojp.gov/events/strategic-planning-sustainable-vict
 im-services
SUMMARY:Strategic Planning for Sustainable Victim Services
CLASS:PUBLIC
DESCRIPTION:Learn more about this event: https://www.ovc.ojp.gov/events/str
 ategic-planning-sustainable-victim-services
DTSTAMP:20260422T220449Z
END:VEVENT
END:VCALENDAR