BEGIN:VCALENDAR
VERSION:2.0
PRODID:-//Office for Victims of Crime//NONSGML Event Calendar//EN
BEGIN:VEVENT
UID:b4b6e46e-6480-4ab1-8c8d-53f7ad4ad98a
DTSTART;TZID=UTC:20230817T130000
SEQUENCE:0
TRANSP:OPAQUE
DTEND;TZID=UTC:20230818T220000
LOCATION:https://www.ovc.ojp.gov/events/child-sex-trafficking-investigation
 s-strategies-increase-prosecutions-traffickers-missing
SUMMARY:Child Sex Trafficking Investigations: Strategies to Increase Prosec
 utions of Traffickers of Missing Children
CLASS:PUBLIC
DESCRIPTION:Learn more about this event: https://www.ovc.ojp.gov/events/chi
 ld-sex-trafficking-investigations-strategies-increase-prosecutions-traffic
 kers-missing
DTSTAMP:20260422T221100Z
END:VEVENT
END:VCALENDAR