BEGIN:VCALENDAR
VERSION:2.0
PRODID:-//Office for Victims of Crime//NONSGML Event Calendar//EN
BEGIN:VEVENT
UID:afb12df4-5405-41c9-81f0-b469a3ebaa3c
DTSTART;TZID=UTC:20230928T180000
SEQUENCE:0
TRANSP:OPAQUE
DTEND;TZID=UTC:20230928T193000
LOCATION:https://www.ovc.ojp.gov/events/legacy-polyvictimization-initiative
 -and-future-groundbreaking-framework
SUMMARY:The Legacy of the Polyvictimization Initiative and the Future of a 
 Groundbreaking Framework
CLASS:PUBLIC
DESCRIPTION:Learn more about this event: https://www.ovc.ojp.gov/events/leg
 acy-polyvictimization-initiative-and-future-groundbreaking-framework
DTSTAMP:20260422T215827Z
END:VEVENT
END:VCALENDAR