BEGIN:VCALENDAR
VERSION:2.0
PRODID:-//Office for Victims of Crime//NONSGML Event Calendar//EN
BEGIN:VEVENT
UID:866a570c-3345-4f52-9a95-c1570478a0de
DTSTART;TZID=UTC:20231026T190000
SEQUENCE:0
TRANSP:OPAQUE
DTEND;TZID=UTC:20231026T201500
LOCATION:https://www.ovc.ojp.gov/events/talking-circle-mmip-and-law-enforce
 ment-working-together-bring-loved-ones-home
SUMMARY:Talking Circle: MMIP and Law Enforcement: Working Together to Bring
  Loved Ones Home
CLASS:PUBLIC
DESCRIPTION:Learn more about this event: https://www.ovc.ojp.gov/events/tal
 king-circle-mmip-and-law-enforcement-working-together-bring-loved-ones-hom
 e
DTSTAMP:20260422T215749Z
END:VEVENT
END:VCALENDAR