BEGIN:VCALENDAR
VERSION:2.0
PRODID:-//Office for Victims of Crime//NONSGML Event Calendar//EN
BEGIN:VEVENT
UID:2192891e-55cd-4ff7-943f-e0c97e8b38c1
DTSTART;TZID=UTC:20231212T130000
SEQUENCE:0
TRANSP:OPAQUE
DTEND;TZID=UTC:20231212T220000
LOCATION:https://www.ovc.ojp.gov/events/child-sex-trafficking-first-respond
 ers
SUMMARY:Child Sex Trafficking for First Responders
CLASS:PUBLIC
DESCRIPTION:Learn more about this event: https://www.ovc.ojp.gov/events/chi
 ld-sex-trafficking-first-responders
DTSTAMP:20260422T220358Z
END:VEVENT
END:VCALENDAR