BEGIN:VCALENDAR
VERSION:2.0
PRODID:-//Office for Victims of Crime//NONSGML Event Calendar//EN
BEGIN:VEVENT
UID:13b2d22f-e4f2-4646-a252-058553f057f0
DTSTART;TZID=UTC:20231213T140000
SEQUENCE:0
TRANSP:OPAQUE
DTEND;TZID=UTC:20231214T220000
LOCATION:https://www.ovc.ojp.gov/events/child-sex-trafficking-investigation
 s-strategies-increase-prosecutions-traffickers-missing-0
SUMMARY:Child Sex Trafficking Investigations: Strategies to Increase Prosec
 utions of Traffickers of Missing Children
CLASS:PUBLIC
DESCRIPTION:Learn more about this event: https://www.ovc.ojp.gov/events/chi
 ld-sex-trafficking-investigations-strategies-increase-prosecutions-traffic
 kers-missing-0
DTSTAMP:20260422T221101Z
END:VEVENT
END:VCALENDAR