BEGIN:VCALENDAR
VERSION:2.0
PRODID:-//Office for Victims of Crime//NONSGML Event Calendar//EN
BEGIN:VEVENT
UID:57869214-3009-4838-8acc-89197e0a2468
DTSTART;TZID=UTC:20240306T150000
SEQUENCE:0
TRANSP:OPAQUE
DTEND;TZID=UTC:20240306T220000
LOCATION:https://www.ovc.ojp.gov/events/responding-unexplained-child-death-
 2
SUMMARY:Responding to an Unexplained Child Death
CLASS:PUBLIC
DESCRIPTION:Learn more about this event: https://www.ovc.ojp.gov/events/res
 ponding-unexplained-child-death-2
DTSTAMP:20260422T233749Z
END:VEVENT
END:VCALENDAR