BEGIN:VCALENDAR
VERSION:2.0
PRODID:-//Office for Victims of Crime//NONSGML Event Calendar//EN
BEGIN:VEVENT
UID:79f581f2-b09b-46d3-82bc-3c970efd695a
DTSTART;TZID=UTC:20240110T140000
SEQUENCE:0
TRANSP:OPAQUE
DTEND;TZID=UTC:20240110T230000
LOCATION:https://www.ovc.ojp.gov/events/amber-alert-activation-best-practic
 es-12
SUMMARY:AMBER Alert Activation Best Practices
CLASS:PUBLIC
DESCRIPTION:Learn more about this event: https://www.ovc.ojp.gov/events/amb
 er-alert-activation-best-practices-12
DTSTAMP:20260422T234507Z
END:VEVENT
END:VCALENDAR