BEGIN:VCALENDAR
VERSION:2.0
PRODID:-//Office for Victims of Crime//NONSGML Event Calendar//EN
BEGIN:VEVENT
UID:6285924c-bf5b-4d35-93af-b97634836167
DTSTART;TZID=UTC:20240924T170000
SEQUENCE:0
TRANSP:OPAQUE
DTEND;TZID=UTC:20240924T181500
LOCATION:https://www.ovc.ojp.gov/events/essential-training-effective-incorp
 oration-victim-services
SUMMARY:Essential Training for Effective Incorporation of Victim Services
CLASS:PUBLIC
DESCRIPTION:Learn more about this event: https://www.ovc.ojp.gov/events/ess
 ential-training-effective-incorporation-victim-services
DTSTAMP:20260422T220501Z
END:VEVENT
END:VCALENDAR