BEGIN:VCALENDAR
VERSION:2.0
PRODID:-//Office for Victims of Crime//NONSGML Event Calendar//EN
BEGIN:VEVENT
UID:1fd3046d-4489-4f24-9c3e-95642b34955d
DTSTART;TZID=UTC:20241205T200000
SEQUENCE:0
TRANSP:OPAQUE
DTEND;TZID=UTC:20241205T211500
LOCATION:https://www.ovc.ojp.gov/events/ask-us-anything-about-effective-inc
 orporation-victim-services
SUMMARY:Ask Us Anything About Effective Incorporation of Victim Services
CLASS:PUBLIC
DESCRIPTION:Learn more about this event: https://www.ovc.ojp.gov/events/ask
 -us-anything-about-effective-incorporation-victim-services
DTSTAMP:20260422T220341Z
END:VEVENT
END:VCALENDAR