BEGIN:VCALENDAR
VERSION:2.0
PRODID:-//Office for Victims of Crime//NONSGML Event Calendar//EN
BEGIN:VEVENT
UID:1c7948ed-fec6-438c-b4d4-422459bf899a
DTSTART;TZID=UTC:20240425T190000
SEQUENCE:0
TRANSP:OPAQUE
DTEND;TZID=UTC:20240425T210000
LOCATION:https://www.ovc.ojp.gov/events/2024-national-crime-victims-service
 -awards-ceremony
SUMMARY:2024 National Crime Victims’ Service Awards Ceremony
CLASS:PUBLIC
DESCRIPTION:Learn more about this event: https://www.ovc.ojp.gov/events/202
 4-national-crime-victims-service-awards-ceremony
DTSTAMP:20260422T220358Z
END:VEVENT
END:VCALENDAR