BEGIN:VCALENDAR
VERSION:2.0
PRODID:-//Office for Victims of Crime//NONSGML Event Calendar//EN
BEGIN:VEVENT
UID:1eb0d501-243c-419c-a3e5-8bbbf2fc774c
DTSTART;TZID=UTC:20240516T150000
SEQUENCE:0
TRANSP:OPAQUE
DTEND;TZID=UTC:20240516T220000
LOCATION:https://www.ovc.ojp.gov/events/child-abuse-suspicion-disclosure-2
SUMMARY:Child Abuse: From Suspicion to Disclosure
CLASS:PUBLIC
DESCRIPTION:Learn more about this event: https://www.ovc.ojp.gov/events/chi
 ld-abuse-suspicion-disclosure-2
DTSTAMP:20260423T010829Z
END:VEVENT
END:VCALENDAR