BEGIN:VCALENDAR
VERSION:2.0
PRODID:-//Office for Victims of Crime//NONSGML Event Calendar//EN
BEGIN:VEVENT
UID:45bf3ce3-8787-43b4-af43-4c7e01389a3b
DTSTART;TZID=UTC:20240417T190000
SEQUENCE:0
TRANSP:OPAQUE
DTEND;TZID=UTC:20240417T200000
LOCATION:https://www.ovc.ojp.gov/events/fy24-voca-victim-assistance-and-vic
 tim-compensation-formula-grant-programs
SUMMARY:FY24 VOCA Victim Assistance and Victim Compensation Formula Grant P
 rograms
CLASS:PUBLIC
DESCRIPTION:Learn more about this event: https://www.ovc.ojp.gov/events/fy2
 4-voca-victim-assistance-and-victim-compensation-formula-grant-programs
DTSTAMP:20260422T233748Z
END:VEVENT
END:VCALENDAR