BEGIN:VCALENDAR
VERSION:2.0
PRODID:-//Office for Victims of Crime//NONSGML Event Calendar//EN
BEGIN:VEVENT
UID:9c8ef787-68aa-4f1d-8ed7-9da0d9589749
DTSTART;TZID=UTC:20240522T163000
SEQUENCE:0
TRANSP:OPAQUE
DTEND;TZID=UTC:20240522T173000
LOCATION:https://www.ovc.ojp.gov/events/fy24-national-crime-victims-rights-
 week-community-awareness-projects-2025-2027-pre
SUMMARY:FY24 National Crime Victims’ Rights Week Community Awareness Proj
 ects (2025–2027) Pre-Application Webinar
CLASS:PUBLIC
DESCRIPTION:Learn more about this event: https://www.ovc.ojp.gov/events/fy2
 4-national-crime-victims-rights-week-community-awareness-projects-2025-202
 7-pre
DTSTAMP:20260423T023923Z
END:VEVENT
END:VCALENDAR