BEGIN:VCALENDAR
VERSION:2.0
PRODID:-//Office for Victims of Crime//NONSGML Event Calendar//EN
BEGIN:VEVENT
UID:0f1d8c64-e377-4d34-84ff-9ee52fb906e5
DTSTART;TZID=UTC:20240611T190000
SEQUENCE:0
TRANSP:OPAQUE
DTEND;TZID=UTC:20240611T200000
LOCATION:https://www.ovc.ojp.gov/events/ovc-fy24-jabara-heyer-no-hate-act-s
 tate-run-hate-crime-reporting-hotlines-webinar
SUMMARY:OVC FY 2024 Jabara-Heyer NO HATE Act State-Run Hate Crime Reporting
  Hotlines Pre-Application Webinar
CLASS:PUBLIC
DESCRIPTION:Learn more about this event: https://www.ovc.ojp.gov/events/ovc
 -fy24-jabara-heyer-no-hate-act-state-run-hate-crime-reporting-hotlines-web
 inar
DTSTAMP:20260422T220341Z
END:VEVENT
END:VCALENDAR