BEGIN:VCALENDAR
VERSION:2.0
PRODID:-//Office for Victims of Crime//NONSGML Event Calendar//EN
BEGIN:VEVENT
UID:e99172a5-d7d7-4e48-bf7a-6dc0f91e8afb
DTSTART;TZID=UTC:20240613T173000
SEQUENCE:0
TRANSP:OPAQUE
DTEND;TZID=UTC:20240613T183000
LOCATION:https://www.ovc.ojp.gov/events/ovc-fy24-expanding-access-sexual-as
 sault-forensic-examinations-pre-application-webinar
SUMMARY: OVC FY24 Expanding Access to Sexual Assault Forensic Examinations 
 Pre-Application Webinar
CLASS:PUBLIC
DESCRIPTION:Learn more about this event: https://www.ovc.ojp.gov/events/ovc
 -fy24-expanding-access-sexual-assault-forensic-examinations-pre-applicatio
 n-webinar
DTSTAMP:20260422T215741Z
END:VEVENT
END:VCALENDAR