BEGIN:VCALENDAR
VERSION:2.0
PRODID:-//Office for Victims of Crime//NONSGML Event Calendar//EN
BEGIN:VEVENT
UID:b1810ef4-486a-43e4-834a-0140e6ba3e59
DTSTART;TZID=UTC:20240617T180000
SEQUENCE:0
TRANSP:OPAQUE
DTEND;TZID=UTC:20240617T190000
LOCATION:https://www.ovc.ojp.gov/events/ovc-fy24-field-generated-solicitati
 on-increasing-options-and-expanding-access-victims-crime
SUMMARY:OVC FY24 Field-Generated Solicitation: Increasing Options and Expan
 ding Access for Victims of Crime Pre-Application Webinar
CLASS:PUBLIC
DESCRIPTION:Learn more about this event: https://www.ovc.ojp.gov/events/ovc
 -fy24-field-generated-solicitation-increasing-options-and-expanding-access
 -victims-crime
DTSTAMP:20260422T215828Z
END:VEVENT
END:VCALENDAR