BEGIN:VCALENDAR
VERSION:2.0
PRODID:-//Office for Victims of Crime//NONSGML Event Calendar//EN
BEGIN:VEVENT
UID:e1cebbde-a3b7-4163-8fc1-e5a2450e63e9
DTSTART;TZID=UTC:20240711T000000
SEQUENCE:0
TRANSP:OPAQUE
DTEND;TZID=UTC:20240712T203000
LOCATION:https://www.ovc.ojp.gov/events/child-sex-trafficking-forensic-inte
 rview-training-8
SUMMARY:Child Sex Trafficking: Forensic Interview Training
CLASS:PUBLIC
DESCRIPTION:Learn more about this event: https://www.ovc.ojp.gov/events/chi
 ld-sex-trafficking-forensic-interview-training-8
DTSTAMP:20260422T214906Z
END:VEVENT
END:VCALENDAR