BEGIN:VCALENDAR
VERSION:2.0
PRODID:-//Office for Victims of Crime//NONSGML Event Calendar//EN
BEGIN:VEVENT
UID:9e1a0fab-ab37-42ae-9b22-460957ce8f39
DTSTART;TZID=UTC:20240924T150000
SEQUENCE:0
TRANSP:OPAQUE
DTEND;TZID=UTC:20240924T220000
LOCATION:https://www.ovc.ojp.gov/events/child-sex-trafficking-suspicion-dis
 closure-9
SUMMARY:Child Sex Trafficking: From Suspicion to Disclosure
CLASS:PUBLIC
DESCRIPTION:Learn more about this event: https://www.ovc.ojp.gov/events/chi
 ld-sex-trafficking-suspicion-disclosure-9
DTSTAMP:20260422T221102Z
END:VEVENT
END:VCALENDAR