BEGIN:VCALENDAR
VERSION:2.0
PRODID:-//Office for Victims of Crime//NONSGML Event Calendar//EN
BEGIN:VEVENT
UID:dd26f7f1-5ae4-4878-8eb7-a2c63b5d549c
DTSTART;TZID=UTC:20240725T180000
SEQUENCE:0
TRANSP:OPAQUE
DTEND;TZID=UTC:20240725T194000
LOCATION:https://www.ovc.ojp.gov/events/indian-child-welfare-act-and-role-f
 ederal-government
SUMMARY:The Indian Child Welfare Act and the Role of the Federal Government
CLASS:PUBLIC
DESCRIPTION:Learn more about this event: https://www.ovc.ojp.gov/events/ind
 ian-child-welfare-act-and-role-federal-government
DTSTAMP:20260422T221101Z
END:VEVENT
END:VCALENDAR