BEGIN:VCALENDAR
VERSION:2.0
PRODID:-//Office for Victims of Crime//NONSGML Event Calendar//EN
BEGIN:VEVENT
UID:db2df03d-00e2-4268-92f4-e3f66c8eda66
DTSTART;TZID=UTC:20241021T143000
SEQUENCE:0
TRANSP:OPAQUE
DTEND;TZID=UTC:20241024T223000
LOCATION:https://www.ovc.ojp.gov/events/multidisciplinary-team-response-chi
 ld-sex-trafficking-16
SUMMARY:Multidisciplinary Team Response to Child Sex Trafficking
CLASS:PUBLIC
DESCRIPTION:Learn more about this event: https://www.ovc.ojp.gov/events/mul
 tidisciplinary-team-response-child-sex-trafficking-16
DTSTAMP:20260412T172428Z
END:VEVENT
END:VCALENDAR