BEGIN:VCALENDAR
VERSION:2.0
PRODID:-//Office for Victims of Crime//NONSGML Event Calendar//EN
BEGIN:VEVENT
UID:296f6ae0-aa1a-4c8a-a977-335f36435b96
DTSTART;TZID=UTC:20250311T170000
SEQUENCE:0
TRANSP:OPAQUE
DTEND;TZID=UTC:20250311T181500
LOCATION:https://www.ovc.ojp.gov/events/considerations-recruitment-and-rete
 ntion-victim-services-unit-personnel
SUMMARY:Considerations for Recruitment and Retention of Victim Services Uni
 t Personnel
CLASS:PUBLIC
DESCRIPTION:Learn more about this event: https://www.ovc.ojp.gov/events/con
 siderations-recruitment-and-retention-victim-services-unit-personnel
DTSTAMP:20260422T220449Z
END:VEVENT
END:VCALENDAR