BEGIN:VCALENDAR
VERSION:2.0
PRODID:-//Office for Victims of Crime//NONSGML Event Calendar//EN
BEGIN:VEVENT
UID:1ad47133-5d4b-4466-96b9-45d085a11d5d
DTSTART;TZID=UTC:20250422T170000
SEQUENCE:0
TRANSP:OPAQUE
DTEND;TZID=UTC:20250422T181500
LOCATION:https://www.ovc.ojp.gov/events/incorporating-interns-and-volunteer
 s-victim-services-unit-responsibilities
SUMMARY:Incorporating Interns and Volunteers into Victim Services Unit Resp
 onsibilities
CLASS:PUBLIC
DESCRIPTION:Learn more about this event: https://www.ovc.ojp.gov/events/inc
 orporating-interns-and-volunteers-victim-services-unit-responsibilities
DTSTAMP:20260422T220359Z
END:VEVENT
END:VCALENDAR