BEGIN:VCALENDAR
VERSION:2.0
PRODID:-//Office for Victims of Crime//NONSGML Event Calendar//EN
BEGIN:VEVENT
UID:eecf6d54-afd3-4173-bd9f-c8679a1f1151
DTSTART;TZID=UTC:20250731T170000
SEQUENCE:0
TRANSP:OPAQUE
DTEND;TZID=UTC:20250731T181500
LOCATION:https://www.ovc.ojp.gov/events/practical-access-victims-rights
SUMMARY:Practical Access to Victims’ Rights
CLASS:PUBLIC
DESCRIPTION:Learn more about this event: https://www.ovc.ojp.gov/events/pra
 ctical-access-victims-rights
DTSTAMP:20260422T220359Z
END:VEVENT
END:VCALENDAR