BEGIN:VCALENDAR
VERSION:2.0
PRODID:-//Office for Victims of Crime//NONSGML Event Calendar//EN
BEGIN:VEVENT
UID:1a35a185-73b4-4b0d-bd55-bcb5292b057f
DTSTART;TZID=UTC:20240814T180000
SEQUENCE:0
TRANSP:OPAQUE
DTEND;TZID=UTC:20240814T191500
LOCATION:https://www.ovc.ojp.gov/events/expert-qa-providing-trauma-informed
 -supervision
SUMMARY:Expert Q&A: Providing Trauma-Informed Supervision
CLASS:PUBLIC
DESCRIPTION:Learn more about this event: https://www.ovc.ojp.gov/events/exp
 ert-qa-providing-trauma-informed-supervision
DTSTAMP:20260422T234544Z
END:VEVENT
END:VCALENDAR