BEGIN:VCALENDAR
VERSION:2.0
PRODID:-//Office for Victims of Crime//NONSGML Event Calendar//EN
BEGIN:VEVENT
UID:f19f24a9-3bb1-4ea0-a9f2-2f89b4f68ec3
DTSTART;TZID=UTC:20250211T200000
SEQUENCE:0
TRANSP:OPAQUE
DTEND;TZID=UTC:20250211T210000
LOCATION:https://www.ovc.ojp.gov/events/ovc-voca-center-february-roundtable
 -voca-compensation-administrators
SUMMARY:The OVC VOCA Center - February Roundtable for VOCA Compensation Adm
 inistrators
CLASS:PUBLIC
DESCRIPTION:Learn more about this event: https://www.ovc.ojp.gov/events/ovc
 -voca-center-february-roundtable-voca-compensation-administrators
DTSTAMP:20260423T022306Z
END:VEVENT
END:VCALENDAR