BEGIN:VCALENDAR
VERSION:2.0
PRODID:-//Office for Victims of Crime//NONSGML Event Calendar//EN
BEGIN:VEVENT
UID:e3875033-fd7c-480e-a450-7ca9b548262e
DTSTART;TZID=UTC:20250408T190000
SEQUENCE:0
TRANSP:OPAQUE
DTEND;TZID=UTC:20250408T200000
LOCATION:https://www.ovc.ojp.gov/events/ovc-voca-center-april-roundtable-vo
 ca-compensation-administrators
SUMMARY:The OVC VOCA Center - April Roundtable for VOCA Compensation Admini
 strators
CLASS:PUBLIC
DESCRIPTION:Learn more about this event: https://www.ovc.ojp.gov/events/ovc
 -voca-center-april-roundtable-voca-compensation-administrators
DTSTAMP:20260423T023932Z
END:VEVENT
END:VCALENDAR