BEGIN:VCALENDAR
VERSION:2.0
PRODID:-//Office for Victims of Crime//NONSGML Event Calendar//EN
BEGIN:VEVENT
UID:79b0083c-f026-4a2f-b884-a3d71d2ae7de
DTSTART;TZID=UTC:20250221T190000
SEQUENCE:0
TRANSP:OPAQUE
DTEND;TZID=UTC:20250221T200000
LOCATION:https://www.ovc.ojp.gov/events/center-victim-research-data-coachin
 g-series-finding-data-violent-deaths-your-state
SUMMARY:Center for Victim Research Data Coaching Series: Finding Data on Vi
 olent Deaths in Your State
CLASS:PUBLIC
DESCRIPTION:Learn more about this event: https://www.ovc.ojp.gov/events/cen
 ter-victim-research-data-coaching-series-finding-data-violent-deaths-your-
 state
DTSTAMP:20260422T220401Z
END:VEVENT
END:VCALENDAR