BEGIN:VCALENDAR
VERSION:2.0
PRODID:-//Office for Victims of Crime//NONSGML Event Calendar//EN
BEGIN:VEVENT
UID:a32a8274-20b9-4ee6-9f00-fff2d1229c64
DTSTART;TZID=UTC:20250225T180000
SEQUENCE:0
TRANSP:OPAQUE
DTEND;TZID=UTC:20250225T191500
LOCATION:https://www.ovc.ojp.gov/events/adults-and-childhood-trauma
SUMMARY:Adults and Childhood Trauma
CLASS:PUBLIC
DESCRIPTION:Learn more about this event: https://www.ovc.ojp.gov/events/adu
 lts-and-childhood-trauma
DTSTAMP:20260410T151820Z
END:VEVENT
END:VCALENDAR