BEGIN:VCALENDAR
VERSION:2.0
PRODID:-//Office for Victims of Crime//NONSGML Event Calendar//EN
BEGIN:VEVENT
UID:a1d2c166-9d8c-4815-8b16-aa7ad62f7dd6
DTSTART;TZID=UTC:20250401T170000
SEQUENCE:0
TRANSP:OPAQUE
DTEND;TZID=UTC:20250401T181500
LOCATION:https://www.ovc.ojp.gov/events/silly-rabbit-tech-isnt-just-kids-su
 pporting-older-adult-victims-digital-financial-abuse
SUMMARY:Silly Rabbit\, Tech Isn’t Just for Kids: Supporting Older Adult V
 ictims of Digital Financial Abuse
CLASS:PUBLIC
DESCRIPTION:Learn more about this event: https://www.ovc.ojp.gov/events/sil
 ly-rabbit-tech-isnt-just-kids-supporting-older-adult-victims-digital-finan
 cial-abuse
DTSTAMP:20260422T215048Z
END:VEVENT
END:VCALENDAR