BEGIN:VCALENDAR
VERSION:2.0
PRODID:-//Office for Victims of Crime//NONSGML Event Calendar//EN
BEGIN:VEVENT
UID:eae75ca0-f131-4134-92e0-9d30a3975fdb
DTSTART;TZID=UTC:20250403T170000
SEQUENCE:0
TRANSP:OPAQUE
DTEND;TZID=UTC:20250403T181500
LOCATION:https://www.ovc.ojp.gov/events/bolo-mental-health-concerns-first-r
 esponders
SUMMARY:BOLO: Mental Health Concerns for First Responders
CLASS:PUBLIC
DESCRIPTION:Learn more about this event: https://www.ovc.ojp.gov/events/bol
 o-mental-health-concerns-first-responders
DTSTAMP:20260422T232335Z
END:VEVENT
END:VCALENDAR