BEGIN:VCALENDAR
VERSION:2.0
PRODID:-//Office for Victims of Crime//NONSGML Event Calendar//EN
BEGIN:VEVENT
UID:8ceb3ab0-9764-4882-8890-b314fd9da52e
DTSTART;TZID=UTC:20250327T210000
SEQUENCE:0
TRANSP:OPAQUE
DTEND;TZID=UTC:20250328T000000
LOCATION:https://www.ovc.ojp.gov/events/public-resource-fair-winnebago-coun
 ty-national-crime-victims-rights-week-party-palooza
SUMMARY:Public Resource Fair - Winnebago County National Crime Victims' Rig
 hts Week Party Palooza
CLASS:PUBLIC
DESCRIPTION:Learn more about this event: https://www.ovc.ojp.gov/events/pub
 lic-resource-fair-winnebago-county-national-crime-victims-rights-week-part
 y-palooza
DTSTAMP:20260423T010749Z
END:VEVENT
END:VCALENDAR