BEGIN:VCALENDAR
VERSION:2.0
PRODID:-//Office for Victims of Crime//NONSGML Event Calendar//EN
BEGIN:VEVENT
UID:8080e469-dc3a-4489-9429-1e3bfbe695ae
DTSTART;TZID=UTC:20250324T210000
SEQUENCE:0
TRANSP:OPAQUE
DTEND;TZID=UTC:20250325T000000
LOCATION:https://www.ovc.ojp.gov/events/public-resource-fair-winnebago-coun
 ty-national-crime-victims-rights-week-party-palooza-0
SUMMARY:Public Resource Fair - Winnebago County National Crime Victims’ R
 ights Week Party Palooza
CLASS:PUBLIC
DESCRIPTION:Learn more about this event: https://www.ovc.ojp.gov/events/pub
 lic-resource-fair-winnebago-county-national-crime-victims-rights-week-part
 y-palooza-0
DTSTAMP:20260423T010713Z
END:VEVENT
END:VCALENDAR