BEGIN:VCALENDAR
VERSION:2.0
PRODID:-//Office for Victims of Crime//NONSGML Event Calendar//EN
BEGIN:VEVENT
UID:c9491c07-6bf6-423b-9ba1-2d6189d5e66e
DTSTART;TZID=UTC:20250331T210000
SEQUENCE:0
TRANSP:OPAQUE
DTEND;TZID=UTC:20250401T000000
LOCATION:https://www.ovc.ojp.gov/events/public-resource-fair-winnebago-coun
 ty-national-crime-victims-rights-week-party-palooza-1
SUMMARY:Public Resource Fair - Winnebago County National Crime Victims’ R
 ights Week Party Palooza
CLASS:PUBLIC
DESCRIPTION:Learn more about this event: https://www.ovc.ojp.gov/events/pub
 lic-resource-fair-winnebago-county-national-crime-victims-rights-week-part
 y-palooza-1
DTSTAMP:20260423T010749Z
END:VEVENT
END:VCALENDAR