BEGIN:VCALENDAR
VERSION:2.0
PRODID:-//Office for Victims of Crime//NONSGML Event Calendar//EN
BEGIN:VEVENT
UID:8b4c45fb-02b5-4026-b8f5-b23ca3f9cb8a
DTSTART;TZID=UTC:20251118T200000
SEQUENCE:0
TRANSP:OPAQUE
DTEND;TZID=UTC:20251118T211500
LOCATION:https://www.ovc.ojp.gov/events/better-together-law-enforcement-and
 -victim-advocacy-responses-concussions-and-strangulation
SUMMARY:Better Together: Law Enforcement and Victim Advocacy Responses to C
 oncussions and Strangulation
CLASS:PUBLIC
DESCRIPTION:Learn more about this event: https://www.ovc.ojp.gov/events/bet
 ter-together-law-enforcement-and-victim-advocacy-responses-concussions-and
 -strangulation
DTSTAMP:20260422T220504Z
END:VEVENT
END:VCALENDAR