BEGIN:VCALENDAR
VERSION:2.0
PRODID:-//Office for Victims of Crime//NONSGML Event Calendar//EN
BEGIN:VEVENT
UID:4d91612d-fd15-4a55-8b06-7b6218a2b372
DTSTART;TZID=UTC:20251104T200000
SEQUENCE:0
TRANSP:OPAQUE
DTEND;TZID=UTC:20251104T211500
LOCATION:https://www.ovc.ojp.gov/events/not-another-self-care-webinar-why-w
 e-need-move-beyond-self-care-address-whats-burning-us
SUMMARY:Not Another “Self-Care” Webinar: Why We Need to Move Beyond Sel
 f-Care to Address What’s Burning Us to the Ground
CLASS:PUBLIC
DESCRIPTION:Learn more about this event: https://www.ovc.ojp.gov/events/not
 -another-self-care-webinar-why-we-need-move-beyond-self-care-address-whats
 -burning-us
DTSTAMP:20260423T013826Z
END:VEVENT
END:VCALENDAR