BEGIN:VCALENDAR
VERSION:2.0
PRODID:-//Office for Victims of Crime//NONSGML Event Calendar//EN
BEGIN:VEVENT
UID:2323a858-ed2d-4b5f-ac98-2d296bae33f5
DTSTART;TZID=UTC:20251021T170000
SEQUENCE:0
TRANSP:OPAQUE
DTEND;TZID=UTC:20251021T181500
LOCATION:https://www.ovc.ojp.gov/events/poly-victimization-connecting-dots-
 intimate-partner-violence
SUMMARY:Poly-Victimization: Connecting the Dots with Intimate Partner Viole
 nce
CLASS:PUBLIC
DESCRIPTION:Learn more about this event: https://www.ovc.ojp.gov/events/pol
 y-victimization-connecting-dots-intimate-partner-violence
DTSTAMP:20260422T220450Z
END:VEVENT
END:VCALENDAR