BEGIN:VCALENDAR
VERSION:2.0
PRODID:-//Office for Victims of Crime//NONSGML Event Calendar//EN
BEGIN:VEVENT
UID:9ec697b4-ae7e-4bbf-9eb4-929f66721424
DTSTART;TZID=UTC:20251014T170000
SEQUENCE:0
TRANSP:OPAQUE
DTEND;TZID=UTC:20251014T181500
LOCATION:https://www.ovc.ojp.gov/events/how-do-we-know-we-are-making-differ
 ence-using-improve-measure-outcomes-services-persons
SUMMARY:How Do We Know We are Making a Difference? Using iMPRoVE to Measure
  the Outcomes of Services for Persons Impacted by Crime
CLASS:PUBLIC
DESCRIPTION:Learn more about this event: https://www.ovc.ojp.gov/events/how
 -do-we-know-we-are-making-difference-using-improve-measure-outcomes-servic
 es-persons
DTSTAMP:20260422T220449Z
END:VEVENT
END:VCALENDAR