BEGIN:VCALENDAR
VERSION:2.0
PRODID:-//Office for Victims of Crime//NONSGML Event Calendar//EN
BEGIN:VEVENT
UID:4e47ff84-24e0-4fbc-b34d-4e5cd548c893
DTSTART;TZID=UTC:20250916T190000
SEQUENCE:0
TRANSP:OPAQUE
DTEND;TZID=UTC:20250916T201500
LOCATION:https://www.ovc.ojp.gov/events/strangulation-traumatic-brain-injur
 y-and-justice-system-effective-responses-domestic
SUMMARY:Strangulation\, Traumatic Brain Injury\, and the Justice System: Ef
 fective Responses to Domestic Violence
CLASS:PUBLIC
DESCRIPTION:Learn more about this event: https://www.ovc.ojp.gov/events/str
 angulation-traumatic-brain-injury-and-justice-system-effective-responses-d
 omestic
DTSTAMP:20260422T220357Z
END:VEVENT
END:VCALENDAR