BEGIN:VCALENDAR
VERSION:2.0
PRODID:-//Office for Victims of Crime//NONSGML Event Calendar//EN
BEGIN:VEVENT
UID:e2ea2686-f3d4-4776-9b92-5238dcf398f2
DTSTART;TZID=UTC:20250814T170000
SEQUENCE:0
TRANSP:OPAQUE
DTEND;TZID=UTC:20250814T181500
LOCATION:https://www.ovc.ojp.gov/events/identity-protection-and-victim-safe
 ty
SUMMARY:Identity Protection and Victim Safety
CLASS:PUBLIC
DESCRIPTION:Learn more about this event: https://www.ovc.ojp.gov/events/ide
 ntity-protection-and-victim-safety
DTSTAMP:20260415T173746Z
END:VEVENT
END:VCALENDAR