BEGIN:VCALENDAR
VERSION:2.0
PRODID:-//Office for Victims of Crime//NONSGML Event Calendar//EN
BEGIN:VEVENT
UID:bebe7d38-c99a-42f3-910e-aa4cf2917173
DTSTART;TZID=UTC:20250617T190000
SEQUENCE:0
TRANSP:OPAQUE
DTEND;TZID=UTC:20250617T201500
LOCATION:https://www.ovc.ojp.gov/events/general-tech-and-safety-planning-vi
 ctim-advocates
SUMMARY:General Tech and Safety Planning for Victim Advocates
CLASS:PUBLIC
DESCRIPTION:Learn more about this event: https://www.ovc.ojp.gov/events/gen
 eral-tech-and-safety-planning-victim-advocates
DTSTAMP:20260422T215741Z
END:VEVENT
END:VCALENDAR