BEGIN:VCALENDAR
VERSION:2.0
PRODID:-//Office for Victims of Crime//NONSGML Event Calendar//EN
BEGIN:VEVENT
UID:81465dd5-38f1-4d40-a228-dbcc0b0b244d
DTSTART;TZID=UTC:20250506T170000
SEQUENCE:0
TRANSP:OPAQUE
DTEND;TZID=UTC:20250506T181500
LOCATION:https://www.ovc.ojp.gov/events/when-bubble-baths-arent-enough-anxi
 ety-behind-stress-and-burnout
SUMMARY:When Bubble Baths Aren’t Enough: The Anxiety Behind Stress and Bu
 rnout
CLASS:PUBLIC
DESCRIPTION:Learn more about this event: https://www.ovc.ojp.gov/events/whe
 n-bubble-baths-arent-enough-anxiety-behind-stress-and-burnout
DTSTAMP:20260422T222046Z
END:VEVENT
END:VCALENDAR