BEGIN:VCALENDAR
VERSION:2.0
PRODID:-//Office for Victims of Crime//NONSGML Event Calendar//EN
BEGIN:VEVENT
UID:7f8fe117-c47d-4d00-bdd9-84812e5c53d4
DTSTART;TZID=UTC:20250409T180000
SEQUENCE:0
TRANSP:OPAQUE
DTEND;TZID=UTC:20250409T200000
LOCATION:https://www.ovc.ojp.gov/events/crime-victims-rights-day-0
SUMMARY:\"Crime Victims Rights Day\"
CLASS:PUBLIC
DESCRIPTION:Learn more about this event: https://www.ovc.ojp.gov/events/cri
 me-victims-rights-day-0
DTSTAMP:20260423T010751Z
END:VEVENT
END:VCALENDAR