BEGIN:VCALENDAR
VERSION:2.0
PRODID:-//Office for Victims of Crime//NONSGML Event Calendar//EN
BEGIN:VEVENT
UID:df396ee8-790f-4cc4-8ecf-a539cce3edc4
DTSTART;TZID=UTC:20250411T010000
SEQUENCE:0
TRANSP:OPAQUE
DTEND;TZID=UTC:20250411T023000
LOCATION:https://www.ovc.ojp.gov/events/national-crime-victims-week-candlel
 ight-vigil-call-kinship-lincoln-county
SUMMARY:National Crime Victims' Week Candlelight Vigil - A Call for Kinship
  in Lincoln County 
CLASS:PUBLIC
DESCRIPTION:Learn more about this event: https://www.ovc.ojp.gov/events/nat
 ional-crime-victims-week-candlelight-vigil-call-kinship-lincoln-county
DTSTAMP:20260423T010748Z
END:VEVENT
END:VCALENDAR