BEGIN:VCALENDAR
VERSION:2.0
PRODID:-//Office for Victims of Crime//NONSGML Event Calendar//EN
BEGIN:VEVENT
UID:55cfb46f-8c5a-4103-93b6-9540e1571307
DTSTART;TZID=UTC:20250410T140000
SEQUENCE:0
TRANSP:OPAQUE
DTEND;TZID=UTC:20250410T180000
LOCATION:https://www.ovc.ojp.gov/events/2025-community-action-advocacy-conf
 erence-and-networking-event
SUMMARY:2025 Community In Action Advocacy Conference and Networking Event
CLASS:PUBLIC
DESCRIPTION:Learn more about this event: https://www.ovc.ojp.gov/events/202
 5-community-action-advocacy-conference-and-networking-event
DTSTAMP:20260423T010713Z
END:VEVENT
END:VCALENDAR