BEGIN:VCALENDAR
VERSION:2.0
PRODID:-//Office for Victims of Crime//NONSGML Event Calendar//EN
BEGIN:VEVENT
UID:5bcd601f-e8e1-44ff-930f-a76db01158b6
DTSTART;TZID=UTC:20250410T190000
SEQUENCE:0
TRANSP:OPAQUE
DTEND;TZID=UTC:20250411T000000
LOCATION:https://www.ovc.ojp.gov/events/victims-rights-community-event
SUMMARY:Victims' Rights Community Event
CLASS:PUBLIC
DESCRIPTION:Learn more about this event: https://www.ovc.ojp.gov/events/vic
 tims-rights-community-event
DTSTAMP:20260422T230409Z
END:VEVENT
END:VCALENDAR